BEGIN:VCALENDAR
VERSION:2.0
PRODID:-//596 Acres - ECPv4.6.7//NONSGML v1.0//EN
CALSCALE:GREGORIAN
METHOD:PUBLISH
X-WR-CALNAME:596 Acres
X-ORIGINAL-URL:http://596acres.org
X-WR-CALDESC:Events for 596 Acres
BEGIN:VEVENT
DTSTART;TZID=UTC+0:20140906T150000
DTEND;TZID=UTC+0:20140906T170000
DTSTAMP:20260423T213756
CREATED:20140906T222603Z
LAST-MODIFIED:20161003T211845Z
UID:7114-1410015600-1410022800@596acres.org
SUMMARY:Ribbon Cutting at Smiling Hogshead Ranch!
DESCRIPTION:Saturday\, September 6 from 3 p.m. to 5 p.m. (Rain date September 13\, 2014)\nAt Smiling Hogshead Ranch\, 25-30 Skillman Avenue\, Long Island City\, NY 11101\n\nhttp://596acres.org/lot/4001000002/ \n\nLease Signed with MTA: A New Era for Smiling Hogshead Ranch\nJoin The Ranch Organizers for a Ribbon Cutting Ceremony \nSmiling Hogshead Ranch is celebrating the execution of an agreement with the property owner\, the MTA/LIRR. This is the official transition from an informal garden to a fully endorsed public space. Please join us and the ranchers for an inauguration ribbon cutting ceremony! \nThis event is free and open to the public. Donations appreciated for light food and drinks graciously provided by our garden members and the following sponsors; The Queens Kickshaw\, Beyond Brewing Company\, Singlecut Beersmiths\, V-Spot Vegan Restaurant and The Regal Vegan. \nSpeakers\nJimmy Van Bramer – District 26 Councilperson & City Council Majority Leader\nPenny Lee – NYC Dept. of City Planning (Invited)\nGil Lopez – Smiling Hogshead Ranch\nPaula Segal – 596 Acres\nSaleen Shah – Citizens Committee for New York City \nMedia Inquiries\nGil Lopez – 347.509.4464 / 407.432.8156\nMia Vlah – 216.338.3300\nEmail: SmilingHogsheadRanch@gmail.com\nFor additional questions about the MTA’s role\, contact the MTA Press Office – 212.878.7440 \nAbout Smiling Hogshead Ranch\nSmiling Hogshead Ranch (http://SmilingHogsheadRanch.org/) is a volunteer led urban farm in Long Island City\, Queens\, NYC. The Ranch is committed to demonstrating and promoting systems that encourage food and environmental justice. At The Ranch\, community members grow a variety of herbs and vegetables as well as fruiting and nut trees\, shrubs and vines. They also demonstrate a form of bioremediation using mushroom mycelium and build the Ranch’s infrastructure with mostly found and refurbished materials. The Ranch’s guerrilla garden beginnings are rooted in an alternative cooperation form of direct action\, as such we support the reclaiming of the commons and full transition to a more equitable society\, starting exactly where we are. \n
URL:http://596acres.org/events/ribbon-cutting-at-smiling-hogshead-ranch/
LOCATION:25-30 Skillman Avenue\, Long Island City\, NY\, 11101\, United States
END:VEVENT
END:VCALENDAR