BEGIN:VCALENDAR
VERSION:2.0
PRODID:-//596 Acres - ECPv4.6.7//NONSGML v1.0//EN
CALSCALE:GREGORIAN
METHOD:PUBLISH
X-WR-CALNAME:596 Acres
X-ORIGINAL-URL:http://596acres.org
X-WR-CALDESC:Events for 596 Acres
BEGIN:VEVENT
DTSTART;TZID=UTC-4:20171021T120000
DTEND;TZID=UTC-4:20171021T180000
DTSTAMP:20260426T035409
CREATED:20171017T210946Z
LAST-MODIFIED:20171017T212430Z
UID:10289-1508587200-1508608800@596acres.org
SUMMARY:596 Acres at Gowanus Open Studios
DESCRIPTION:Our studio is open! Come visit us. Get some cool things\, like Community Governance Cards and information we made useful from the city’s databases about the vacant land and buildings in your life. We will brainstorm with you about how to transform these into lasting community places. More information about Gowanus Open Studios on the Arts Gowanus website here and facebook here. \n
URL:http://596acres.org/events/gowanus-open-studios/
LOCATION:540 President Street\, 2E\, Brooklyn\, NY\, 11215\, United States
CATEGORIES:Events,Neighborhood,Public
ATTACH;FMTTYPE=image/jpeg:http://596acres.org/wp-content/uploads/2017/10/temp-4.jpg
END:VEVENT
END:VCALENDAR