BEGIN:VCALENDAR
VERSION:2.0
PRODID:-//596 Acres - ECPv4.6.7//NONSGML v1.0//EN
CALSCALE:GREGORIAN
METHOD:PUBLISH
X-WR-CALNAME:596 Acres
X-ORIGINAL-URL:http://596acres.org
X-WR-CALDESC:Events for 596 Acres
BEGIN:VEVENT
DTSTART;TZID=UTC-4:20180312T190000
DTEND;TZID=UTC-4:20180312T200000
DTSTAMP:20260426T035438
CREATED:20180305T210418Z
LAST-MODIFIED:20180315T192311Z
UID:10972-1520881200-1520884800@596acres.org
SUMMARY:FB Live with 596 Acres! Episode 2.
DESCRIPTION:This event passed! Watch our discussion of onedollarlots.org in three parts:\nPart 1: Welcome to FB Live with 596 Acres\nPart 2: Sam walks us through the onedollarlots.org tool\nPart 3: Steph\, Mara & Sam discuss using One Dollar Lots in the world \n* * * \nHey 596 Fam! \nIt’s that time of the month again when you get a chance to connect with us through FB LIVE! RSVP to our facebook event here to be notified for when it starts.  \nWe just launched onedollarlots.org! Join us as we discuss community land access digital mapping tools! We will share our experiences with making digital maps as a form of advocacy\, resistance\, and political education. \nTune in for a lively chat with our staff and current web tool development intern\, Sam Raby! \nWe look forward to seeing y’all on the interwebs. \nRSVP and spread the word! \nMuch Love\,\nSteph + Mara \n
URL:http://596acres.org/events/fb-live-2/
LOCATION:https://www.facebook.com/events/855690354613797/
CATEGORIES:Events,Public
ATTACH;FMTTYPE=image/png:http://596acres.org/wp-content/uploads/2018/03/unnamed.png
ORGANIZER;CN="596%20Acres":MAILTO:organizers@596acres.org
END:VEVENT
END:VCALENDAR